BEGIN:VCALENDAR
VERSION:2.0
PRODID:-//eventon.com NONSGML v1.0//EN
CALSCALE:GREGORIAN
METHOD:PUBLISH
BEGIN:VEVENT
UID:69e72c1d96d7d
DTSTAMP:20260421T074949Z
DTSTART:20160801
DTEND:20160901
LOCATION:
SUMMARY:August ELQN Inspectional Audit
DESCRIPTION:Welcome to the crucial phase in ELQN&#8217;s annual cycle: The 
 August Inspectional Audit Month. This month-long event is a dedicated perio
 d where institutions come forward to renew their memberships\,  showcasing 
 their commitment and adherence to ELQN&#8217;s esteemed quality standards. 
 Institutions are called upon to provide an update on their adaptation[..]\n
 https://elqn.org/events/august-elqn-inspectional-audit/
URL:https://elqn.org/events/august-elqn-inspectional-audit/
END:VEVENT
END:VCALENDAR